BEGIN:VCALENDAR
VERSION:2.0
CALSCALE:GREGORIAN
PRODID:adamgibbons/ics
METHOD:PUBLISH
X-PUBLISHED-TTL:PT1H
BEGIN:VEVENT
UID:TiQz1OrGSq8QgCXhKUdCT
SUMMARY:Asker - Årsstämma 2026
DTSTAMP:20260422T192355Z
DTSTART:20260507T080000Z
DTEND:20260507T150000Z
END:VEVENT
END:VCALENDAR
